BEGIN:VCALENDAR
VERSION:2.0
PRODID:spatie/icalendar-generator
DESCRIPTION:Events from Ohio Association of Veterinary Technicians
X-WR-CALDESC:Events from Ohio Association of Veterinary Technicians
REFRESH-INTERVAL;VALUE=DURATION:PT1440M
X-PUBLISHED-TTL:PT1440M
BEGIN:VTIMEZONE
TZID:America/Detroit
BEGIN:STANDARD
DTSTART:20251102T020000Z
TZOFFSETFROM:-0400
TZOFFSETTO:-0500
END:STANDARD
BEGIN:DAYLIGHT
DTSTART:20260308T020000Z
TZOFFSETFROM:-0500
TZOFFSETTO:-0400
END:DAYLIGHT
END:VTIMEZONE
BEGIN:VTIMEZONE
TZID:UTC
BEGIN:STANDARD
DTSTART:20250725T192828Z
TZOFFSETFROM:+0000
TZOFFSETTO:+0000
END:STANDARD
END:VTIMEZONE
BEGIN:VEVENT
UID:4-4
DTSTAMP:20260421T192828Z
SUMMARY:OAVT Meeting
LOCATION:
ORGANIZER;CN=Ashley Jenkins:MAILTO:ashleyviolet15@gmail.com
DTSTART;TZID=America/Detroit:20260208T190000
DTEND;TZID=America/Detroit:20260208T200000
X-ALT-DESC;FMTTYPE=TEXT/HTML:Curious about what it means to be on the OAVT 
 board?  Want to have a say or share your ideas in OAVT proceedings? Conta
 ct us and we would be happy to get you set up with more info! Most meets a
 re held via zoom.
CATEGORIES:General
URL;VALUE=URI:https://ohiorvt.org/mc-events/oavt-meeting/
METHOD:PUBLISH
END:VEVENT
END:VCALENDAR