BEGIN:VCALENDAR
VERSION:2.0
PRODID:spatie/icalendar-generator
DESCRIPTION:Events from Ohio Association of Veterinary Technicians
X-WR-CALDESC:Events from Ohio Association of Veterinary Technicians
REFRESH-INTERVAL;VALUE=DURATION:PT1440M
X-PUBLISHED-TTL:PT1440M
BEGIN:VTIMEZONE
TZID:America/Detroit
BEGIN:STANDARD
DTSTART:20251102T020000Z
TZOFFSETFROM:-0400
TZOFFSETTO:-0500
END:STANDARD
BEGIN:DAYLIGHT
DTSTART:20260308T020000Z
TZOFFSETFROM:-0500
TZOFFSETTO:-0400
END:DAYLIGHT
END:VTIMEZONE
BEGIN:VTIMEZONE
TZID:UTC
BEGIN:STANDARD
DTSTART:20250725T173847Z
TZOFFSETFROM:+0000
TZOFFSETTO:+0000
END:STANDARD
END:VTIMEZONE
BEGIN:VEVENT
UID:3-3
DTSTAMP:20260421T173847Z
SUMMARY:Midwest Veterinary Conference
LOCATION:Greater Columbus Convention Center 400 N High St  Columbus Ohio 43
 215
ORGANIZER;CN=Ashley Jenkins:MAILTO:ashleyviolet15@gmail.com
DTSTART;TZID=America/Detroit:20260226T070000
DTEND;TZID=America/Detroit:20260228T170000
X-ALT-DESC;FMTTYPE=TEXT/HTML:Stop by our both at MVC to pick up your freebi
 es and save the dates for Discovery! Don't forget to register early for th
 e early bird pricing.
CATEGORIES:General
URL;VALUE=URI:https://ohiorvt.org/mc-events/midwest-veterinary-conference/
METHOD:PUBLISH
END:VEVENT
END:VCALENDAR