BEGIN:VCALENDAR
VERSION:2.0
PRODID:spatie/icalendar-generator
DESCRIPTION:Events from Ohio Association of Veterinary Technicians
X-WR-CALDESC:Events from Ohio Association of Veterinary Technicians
REFRESH-INTERVAL;VALUE=DURATION:PT1440M
X-PUBLISHED-TTL:PT1440M
BEGIN:VTIMEZONE
TZID:America/Detroit
BEGIN:DAYLIGHT
DTSTART:20250309T020000Z
TZOFFSETFROM:-0500
TZOFFSETTO:-0400
END:DAYLIGHT
BEGIN:STANDARD
DTSTART:20251102T020000Z
TZOFFSETFROM:-0400
TZOFFSETTO:-0500
END:STANDARD
BEGIN:DAYLIGHT
DTSTART:20260308T020000Z
TZOFFSETFROM:-0500
TZOFFSETTO:-0400
END:DAYLIGHT
END:VTIMEZONE
BEGIN:VTIMEZONE
TZID:UTC
BEGIN:STANDARD
DTSTART:20250725T211543Z
TZOFFSETFROM:+0000
TZOFFSETTO:+0000
END:STANDARD
END:VTIMEZONE
BEGIN:VEVENT
UID:2-2
DTSTAMP:20260421T211543Z
SUMMARY:Discovery 2025
LOCATION:Renaissance Hotel 409 Altair Pkwy  Westerville OH 43082
ORGANIZER;CN=webmaestro:MAILTO:nathan@mywebmaestro.com
DTSTART;TZID=America/Detroit;VALUE=DATE:20251011
DTEND;TZID=America/Detroit;VALUE=DATE:20251013
X-ALT-DESC;FMTTYPE=TEXT/HTML:The OAVT Executive Board has been hard at work
  planning Discovery 2025! We are excited to share with you programs should
  be arriving by mail and/or email within the next week! Stay tuned for mor
 e about the sessions\, speakers\, and sponsors. Registration is open now! 
 Visit www.ohiorvt.org to register today!
CATEGORIES:General
URL;VALUE=URI:https://ohiorvt.org/mc-events/discovery-2025/
METHOD:PUBLISH
END:VEVENT
END:VCALENDAR