BEGIN:VCALENDAR
VERSION:2.0
PRODID:spatie/icalendar-generator
DESCRIPTION:Events from Ohio Association of Veterinary Technicians
X-WR-CALDESC:Events from Ohio Association of Veterinary Technicians
REFRESH-INTERVAL;VALUE=DURATION:PT1440M
X-PUBLISHED-TTL:PT1440M
BEGIN:VTIMEZONE
TZID:America/Detroit
BEGIN:STANDARD
DTSTART:20251102T020000Z
TZOFFSETFROM:-0400
TZOFFSETTO:-0500
END:STANDARD
BEGIN:DAYLIGHT
DTSTART:20260308T020000Z
TZOFFSETFROM:-0500
TZOFFSETTO:-0400
END:DAYLIGHT
END:VTIMEZONE
BEGIN:VTIMEZONE
TZID:UTC
BEGIN:STANDARD
DTSTART:20250725T153527Z
TZOFFSETFROM:+0000
TZOFFSETTO:+0000
END:STANDARD
END:VTIMEZONE
BEGIN:VEVENT
UID:5-5
DTSTAMP:20260421T153527Z
SUMMARY:The Academy of Veterinary Surgical Technicians Virtual Symposium
LOCATION:
ORGANIZER;CN=Ashley Jenkins:MAILTO:ashleyviolet15@gmail.com
DTSTART;TZID=America/Detroit:20260411T110000
DTEND;TZID=America/Detroit:20260411T160000
X-ALT-DESC;FMTTYPE=TEXT/HTML:The Academy of Veterinary Surgical Technicians
  is hosting its second annual Virtual Symposium on April 11\, 2026. The sy
 mposium will have over 4 hours of RACE approved CE that is eligible for th
 eir VTS application. It is open to anyone\, technicians\, students\, suppo
 rt staff and even veterinarians. It is also completely free! 
CATEGORIES:General
URL;VALUE=URI:https://ohiorvt.org/mc-events/the-academy-of-veterinary-surgi
 cal-technicians-virtual-symposium/
METHOD:PUBLISH
END:VEVENT
END:VCALENDAR